BEGIN:VCALENDAR
VERSION:2.0
PRODID:-//Intand Corporation//Tandem//EN
METHOD:PUBLISH
BEGIN:VEVENT
DTSTAMP:20260424T115626Z
DTSTART:20260508T210000Z
DTEND:20260509T055959Z
TRANSP:TRANSPARENT
PRIORITY:0
SUMMARY:HS Soccer with Powell
LOCATION:Green Space
DESCRIPTION:3:00/5:00\n\n\nBreakdown: TBD\n\nReturn: TBD\n\nGroups:\nHS So
 ccer\n\nSchools:\nMountain View High School\n\nLocation:\nGreen Space\n\n
URL;VALUE=URI:http://u4wyus.tandem.co/index.php?type=view&action=event&id=
 51684
CREATED:20250421T200640Z
LAST-MODIFIED:20250421T200640Z
UID:event-51684-uinta4wyus@intand.com
END:VEVENT
END:VCALENDAR
