BEGIN:VCALENDAR
VERSION:2.0
PRODID:-//Intand Corporation//Tandem//EN
METHOD:PUBLISH
BEGIN:VEVENT
DTSTAMP:20260424T115915Z
DTSTART:20260521T133000Z
DTEND:20260524T040000Z
TRANSP:TRANSPARENT
PRIORITY:0
SUMMARY:HS State Track @ Casper WY 
LOCATION:Kelly Walsh High School
DESCRIPTION:Groups:\nHS Track Girls\nHS Track Boys\n\nSchools:\nMountain V
 iew High School\n\nLocation:\nKelly Walsh High School\n\n
URL;VALUE=URI:http://u4wyus.tandem.co/index.php?type=view&action=event&id=
 51889
CREATED:20250506T200818Z
LAST-MODIFIED:20250506T200818Z
UID:event-51889-uinta4wyus@intand.com
END:VEVENT
END:VCALENDAR
