BEGIN:VCALENDAR
VERSION:2.0
PRODID:-//Intand Corporation//Tandem//EN
METHOD:PUBLISH
BEGIN:VEVENT
DTSTAMP:20260424T115726Z
DTSTART:20260505T013000Z
DTEND:20260505T055959Z
TRANSP:TRANSPARENT
PRIORITY:0
SUMMARY:HS/MS Choir Concert @ HS Auditorium
LOCATION:HS Auditorium
DESCRIPTION:Breakdown: TBD\n\nReturn: TBD\n\nGroups:\nMS Choir Club\nHS Ch
 oir\n\nSchools:\nMountain View Middle School\nMountain View High School\n\
 nLocation:\nHS Auditorium\n\n
URL;VALUE=URI:http://u4wyus.tandem.co/index.php?type=view&action=event&id=
 52146
CREATED:20250603T205217Z
LAST-MODIFIED:20250603T205217Z
UID:event-52146-uinta4wyus@intand.com
END:VEVENT
END:VCALENDAR
