BEGIN:VCALENDAR
VERSION:2.0
PRODID:-//Intand Corporation//Tandem//EN
METHOD:PUBLISH
BEGIN:VEVENT
DTSTAMP:20260424T151053Z
DTSTART:20270424T170000Z
DTEND:20270424T210000Z
TRANSP:TRANSPARENT
PRIORITY:0
SUMMARY:HS Soccer with Lander
LOCATION:Green Space
DESCRIPTION:11/1:00\n\n\nGroups:\nHS Soccer\n\nSchools:\nMountain View Hig
 h School\n\nLocation:\nGreen Space\n\n
URL;VALUE=URI:http://u4wyus.tandem.co/index.php?type=view&action=event&id=
 53048
CREATED:20251125T203332Z
LAST-MODIFIED:20251125T203332Z
UID:event-53048-uinta4wyus@intand.com
END:VEVENT
END:VCALENDAR
