BEGIN:VCALENDAR
VERSION:2.0
PRODID:-//Intand Corporation//Tandem//EN
METHOD:PUBLISH
BEGIN:VEVENT
DTSTAMP:20260425T210125Z
DTSTART:20260518T160000Z
DTEND:20260518T193000Z
TRANSP:TRANSPARENT
PRIORITY:0
SUMMARY:4th Gr @ Ft Bridger Oregon Trail 
LOCATION:Fort Bridger State Historic Site
DESCRIPTION:Groups:\nK-8 4th Grade\n\nSchools:\nMountain View Elementary\n
 \nLocation:\nFort Bridger State Historic Site\n\n
URL;VALUE=URI:http://u4wyus.tandem.co/index.php?type=view&action=event&id=
 53924
CREATED:20260420T164323Z
LAST-MODIFIED:20260420T164323Z
UID:event-53924-uinta4wyus@intand.com
END:VEVENT
END:VCALENDAR
