BEGIN:VCALENDAR
VERSION:2.0
PRODID:-//Intand Corporation//Tandem//EN
METHOD:PUBLISH
BEGIN:VEVENT
DTSTAMP:20260424T113955Z
DTSTART:20260429T000000Z
DTEND:20260429T055959Z
TRANSP:TRANSPARENT
PRIORITY:0
SUMMARY:HS Girls Basketball Meeting @ HS Library
LOCATION:HS Library
DESCRIPTION:Breakdown: TBD\n\nReturn: TBD\n\nGroups:\nHS Basketball Girls\
 nHS Basketball Girls JV\nHS Basketball Girls Frosh\n\nSchools:\nMountain V
 iew High School\n\nLocation:\nHS Library\n\n
URL;VALUE=URI:http://u4wyus.tandem.co/index.php?type=view&action=event&id=
 53945
CREATED:20260423T190657Z
LAST-MODIFIED:20260423T190657Z
UID:event-53945-uinta4wyus@intand.com
END:VEVENT
END:VCALENDAR
